BEGIN:VCALENDAR
VERSION:2.0
PRODID:-//Ralph Bunche Institute - ECPv6.15.11//NONSGML v1.0//EN
CALSCALE:GREGORIAN
METHOD:PUBLISH
X-ORIGINAL-URL:https://ralphbuncheinstitute.org
X-WR-CALDESC:Events for Ralph Bunche Institute
REFRESH-INTERVAL;VALUE=DURATION:PT1H
X-Robots-Tag:noindex
X-PUBLISHED-TTL:PT1H
BEGIN:VTIMEZONE
TZID:UTC
BEGIN:STANDARD
TZOFFSETFROM:+0000
TZOFFSETTO:+0000
TZNAME:UTC
DTSTART:20240101T000000
END:STANDARD
END:VTIMEZONE
BEGIN:VEVENT
DTSTART;TZID=UTC:20251015T180000
DTEND;TZID=UTC:20251015T200000
DTSTAMP:20260424T210756
CREATED:20250918T231947Z
LAST-MODIFIED:20250918T231947Z
UID:80635-1760551200-1760558400@ralphbuncheinstitute.org
SUMMARY:Ukraine Moving Towards Peace?
DESCRIPTION:{DATE} \n{TITLE} \n{HOST} \nRSVP HERE
URL:https://ralphbuncheinstitute.org/event/ukraine-moving-towards-peace/
LOCATION:Graduate Center\, Skylight Room 9th Floor\, 365 Fifth Avenue\, New York\, NY\, 10016\, United States
CATEGORIES:Events
ATTACH;FMTTYPE=image/jpeg:https://ralphbuncheinstitute.org/dev/wp-content/uploads/2025/09/ukraine-event-horizontal.jpg
END:VEVENT
END:VCALENDAR