BEGIN:VCALENDAR
VERSION:2.0
PRODID:-//Ralph Bunche Institute - ECPv6.15.11//NONSGML v1.0//EN
CALSCALE:GREGORIAN
METHOD:PUBLISH
X-WR-CALNAME:Ralph Bunche Institute
X-ORIGINAL-URL:https://ralphbuncheinstitute.org
X-WR-CALDESC:Events for Ralph Bunche Institute
REFRESH-INTERVAL;VALUE=DURATION:PT1H
X-Robots-Tag:noindex
X-PUBLISHED-TTL:PT1H
BEGIN:VTIMEZONE
TZID:America/New_York
BEGIN:DAYLIGHT
TZOFFSETFROM:-0500
TZOFFSETTO:-0400
TZNAME:EDT
DTSTART:20230312T070000
END:DAYLIGHT
BEGIN:STANDARD
TZOFFSETFROM:-0400
TZOFFSETTO:-0500
TZNAME:EST
DTSTART:20231105T060000
END:STANDARD
BEGIN:DAYLIGHT
TZOFFSETFROM:-0500
TZOFFSETTO:-0400
TZNAME:EDT
DTSTART:20240310T070000
END:DAYLIGHT
BEGIN:STANDARD
TZOFFSETFROM:-0400
TZOFFSETTO:-0500
TZNAME:EST
DTSTART:20241103T060000
END:STANDARD
BEGIN:DAYLIGHT
TZOFFSETFROM:-0500
TZOFFSETTO:-0400
TZNAME:EDT
DTSTART:20250309T070000
END:DAYLIGHT
BEGIN:STANDARD
TZOFFSETFROM:-0400
TZOFFSETTO:-0500
TZNAME:EST
DTSTART:20251102T060000
END:STANDARD
END:VTIMEZONE
BEGIN:VTIMEZONE
TZID:UTC
BEGIN:STANDARD
TZOFFSETFROM:+0000
TZOFFSETTO:+0000
TZNAME:UTC
DTSTART:20230101T000000
END:STANDARD
END:VTIMEZONE
BEGIN:VEVENT
DTSTART;TZID=America/New_York:20241009T183000
DTEND;TZID=America/New_York:20241009T200000
DTSTAMP:20260425T174508
CREATED:20240925T040209Z
LAST-MODIFIED:20241003T154941Z
UID:80112-1728498600-1728504000@ralphbuncheinstitute.org
SUMMARY:"Weimar and Us: Lessons for Today from Interwar Germany—Part I: The Military\, Political Violence\, and Defense of the Republic" Isabel Hull in Conversation with Steven Remy
DESCRIPTION:A major national election looms and the leader who years earlier had encouraged an insurrection is campaigning to a devoted audience. Politically tinged trials unfold in the courts\, and political violence appears to be spreading amidst armed protests and assassination attempts. The above could describe Weimar Germany in the 1920s\, but also characterizes the United States of America in 2024. This series seeks insights from the history of the Weimar Republic that might illuminate our current social and political climate—a fraught era for the American republic just as Weimar was for Germany. \nIn the first of three events\, join historians Isabel Hull (John Stambaugh Professor of History Emerita\, Cornell University) and Steven Remy (History\, Brooklyn College and The Graduate Center) for a conversation about \nThe Military\, Political Violence\, and Defense of the Republic \nDate and Location: \nWednesday\, October 9\, 2024\n6:30 PM – 8:00 PM\, The Skylight Room\, 9th Floor\nThe Graduate Center\, CUNY (365 Fifth Avenue) \nPlease RSVP by clicking the button below.\n \nIsabel V. Hull (Ph.D. Yale 1978) is John Stambaugh Professor of History Emerita at Cornell University. Her research has ranged broadly in German history from the early modern to the modern period\, and from governance\, the history of sexuality\, military culture\, to international law. A Scrap of Paper: Breaking and Making International Law in the First World War (Ithaca\, NY: Cornell University Press\, 2014) won the American Society of International Law book prize in 2016. A member of the American Academy of Arts and Sciences\, Hull was awarded the Max Weber Stiftung-Historisches Kolleg Prize for lifetime achievement in German history and studies in 2013. She is currently writing a book on the international law governing when states could legitimately go to war (jus ad bellum) in Europe just before 1914. \nSteven Remy has taught modern European history at Brooklyn College and the CUNY Graduate Center since 2002. He teaches courses in modern European and German history\, Nazi Germany\, the politics and culture of memory in 20th-century Europe\, colonial wars\, and historical methodology. Steven Remy is a scholar of modern German history. The Heidelberg Myth: The Nazification and Denazification of a German University (Harvard\, 2003)\, examined the responses of scholars to National Socialism. The Malmedy Massacre: The War Crimes Trial Controversy (Harvard\, 2017) deals with debates over war crimes trials in the U.S. and Germany. His most recent book is War Crimes: Law\, Politics\, & Armed Conflict in the Modern World (Taylor & Francis\, 2023). \nThis event is presented by the European Union Studies Center of the Ralph Bunche Institute for International Studies\, co-sponsored by the DAAD Alumni Association USA and supported by the “Germany on Campus” program of the Embassy of the Federal Republic of Germany.
URL:https://ralphbuncheinstitute.org/event/weimar-and-us-lessons-for-today-from-interwar-germany-part-i-the-military-political-violence-and-defense-of-the-republic-isabel-hull-in-conversation-with-steven-remy/
LOCATION:Graduate Center\, Skylight Room 9th Floor\, 365 Fifth Avenue\, New York\, NY\, 10016\, United States
CATEGORIES:Events
ATTACH;FMTTYPE=image/jpeg:https://ralphbuncheinstitute.org/dev/wp-content/uploads/2024/09/WeimarAndUs-1-Oct-9.jpg
ORGANIZER;CN="European Union Studies Center":MAILTO:msovner@gradcenter.cuny.edu
END:VEVENT
BEGIN:VEVENT
DTSTART;TZID=UTC:20241016T183000
DTEND;TZID=UTC:20241016T200000
DTSTAMP:20260425T174508
CREATED:20240925T045820Z
LAST-MODIFIED:20241011T180605Z
UID:80151-1729103400-1729108800@ralphbuncheinstitute.org
SUMMARY:"Weimar and Us: Lessons for Today from Interwar Germany—Part II: Political Economy and Crisis of 'The System'" David Abraham in Conversation with Benjamin Hett
DESCRIPTION:A major national election looms and the leader who years earlier had encouraged an insurrection is campaigning to a devoted audience. Politically tinged trials unfold in the courts\, and political violence appears to be spreading amidst armed protests and assassination attempts. The above could describe Weimar Germany in the 1920s\, but also characterizes the United States of America in 2024. This series seeks insights from the history of the Weimar Republic that might illuminate our current social and political climate—a fraught era for the American republic just as Weimar was for Germany. \nIn the second of three events\, join legal scholar David Abraham (Professor Emeritus\, University of Miami) and Benjamin Hett (The Graduate Center and Hunter College) for a conversation about \nPolitical Economy and the Crisis of “The System” \nDate and Location: \nWednesday\, October 16\, 2024\n6:30 PM-8 PM\, Room 9205\, 9th Floor\nThe Graduate Center\, CUNY (365 Fifth Avenue) \nPlease RSVP by clicking the button below. \nDavid Abraham is professor emeritus of law at the University of Miami School of Law specializing in property\, immigration\, and citizenship law\, citizenship and identity\, and law and the transition to capitalism. A historian by training\, he received a BA\, an MA\, and a PhD in history from the University of Chicago. He received a JD in 1989 from the University of Pennsylvania Law School. After teaching for many years in the history department at Princeton University\, he served as law clerk to Judge Leonard Garth of the US Court of Appeals for the Third Circuit and as an associate with Simpson Thacher & Bartlett. He joined the Miami faculty in 1991. Abraham has published widely on issues of politics and economics in Weimar Germany and is the author of The Collapse of the Weimar Republic\, which examined the conditions and fate of a social democratic\, class-compromise effort to establish a viable welfare state. Abraham has been a Fellow at the Wissenschaftszentrum Berlin and the American Academy in Berlin as well as a guest Professor in Jena and Leipzig.  He has also received Alexander von Humboldt and DAAD Research Fellowships.  And although never a political scientist\, he won the APSA’s Best Book Chapter prize a few years ago. \nBorn in Rochester NY\, Benjamin Carter Hett earned a J.D. at the University of Toronto (1990) and practiced litigation in Canada for four years before earning a Ph.D. in history at Harvard (2001). He has taught at Harvard College and the Harvard Law School and\, since 2003\, at Hunter College and the Graduate Center\, City University of New York. He is the author of The Death of Democracy: Hitler’s Rise to Power and the Downfall of the Weimar Republic (Henry Holt\, 2018)\, winner of the 2019 Vine Award for History and named one of the year’s best books by The Times of London and the Daily Telegraph\, and The Nazi Menace: Hitler\, Churchill\, Roosevelt\, Stalin\, and the Road to War (Henry Holt\, 2020) named an editors’ choice by the New York Times Book Review.  His other books include Burning the Reichstag: An Investigation into the Third Reich’s Enduring Mystery (Oxford\, 2014)\, winner of the 2015 Hans Rosenberg Prize\, and Crossing Hitler: The Man Who Put the Nazis on the Witness Stand (Oxford\, 2008)\, which won the 2007 Fraenkel Prize and was made into a documentary film and a television drama for the BBC. Hett has been the recipient of fellowships from the Guggenheim Foundation and the American Council of Learned Societies. \nThis event is presented by the European Union Studies Center of the Ralph Bunche Institute for International Studies\, co-sponsored by the DAAD Alumni Association USA and supported by the “Germany on Campus” program of the Embassy of the Federal Republic of Germany.
URL:https://ralphbuncheinstitute.org/event/weimar-and-us-lessons-for-today-from-interwar-germany-part-ii-political-economy-david-abraham-in-conversation-with-benjamin-hett/
LOCATION:Graduate Center\, Room 9205\, 365 Fifth Avenue\, New York\, NY\, 10016\, United States
CATEGORIES:Events
ATTACH;FMTTYPE=image/jpeg:https://ralphbuncheinstitute.org/dev/wp-content/uploads/2024/09/weimar-10-16.jpg
ORGANIZER;CN="European Union Studies Center":MAILTO:msovner@gradcenter.cuny.edu
END:VEVENT
BEGIN:VEVENT
DTSTART;TZID=UTC:20241017T180000
DTEND;TZID=UTC:20241017T200000
DTSTAMP:20260425T174508
CREATED:20241015T235017Z
LAST-MODIFIED:20241015T235143Z
UID:80310-1729188000-1729195200@ralphbuncheinstitute.org
SUMMARY:First US Amb. to Ukraine at the GC
DESCRIPTION:** While the formal event will begin at 6pm\, please note that we have organized a reception for students commencing at 5.30pm so that they can meet and chat with Dr. Popadiuk. We encourage you to attend and meet a distinguished alumnus of our program.  \nRoman Popadiuk is a retired member of the career Senior Foreign Service and was the first US ambassador to independent Ukraine. He was Executive Director of the George H.W. Bush Presidential Library Foundation and is President of the Diplomacy Center Foundation. \nJanet Elise Johnson is Endowed Chair in Women’s and Gender Studies and Professor of Political Science at Brooklyn College and the Graduate Center\, CUNY. \nCosponsored by the Ralph Bunche Institute and IRrelevant. \nRSVP Here
URL:https://ralphbuncheinstitute.org/event/first-us-amb-to-ukraine-at-the-gc/
LOCATION:NY
CATEGORIES:Events
ATTACH;FMTTYPE=image/jpeg:https://ralphbuncheinstitute.org/dev/wp-content/uploads/2024/10/RBI-event-17-Oct-24.jpg
END:VEVENT
BEGIN:VEVENT
DTSTART;TZID=UTC:20241019T160000
DTEND;TZID=UTC:20241019T170000
DTSTAMP:20260425T174508
CREATED:20240903T161206Z
LAST-MODIFIED:20240903T161206Z
UID:80074-1729353600-1729357200@ralphbuncheinstitute.org
SUMMARY:Who Has Human Rights? Liberal Consensus\, Left Critique\, and Far-Right Authoritarian Crisis
DESCRIPTION:Vanessa Wills (George Washington University)\nWho Has Human Rights? Liberal Consensus\, Left Critique\, and Far-Right Authoritarian Crisis\nWednesday\, October 19 @ 4:15pm (ET)\nMinorities and Philosophy Annual Lecture\, co-sponsored with the Philosophy Department Colloquium
URL:https://ralphbuncheinstitute.org/event/who-has-human-rights-liberal-consensus-left-critique-and-far-right-authoritarian-crisis/
LOCATION:Graduate Center Room 5203\, 365 Fifth Ave\, New York\, NY\, 10016\, United States
ORGANIZER;CN="Center for Global Ethics and Politics":MAILTO:pcipollitti@gradcenter.cuny.edu
END:VEVENT
BEGIN:VEVENT
DTSTART;TZID=UTC:20241022T183000
DTEND;TZID=UTC:20241022T203000
DTSTAMP:20260425T174508
CREATED:20240903T161258Z
LAST-MODIFIED:20240903T161258Z
UID:80076-1729621800-1729629000@ralphbuncheinstitute.org
SUMMARY:Sexual Agency and Sexual Justice as Feminist Resistance: From Self-Reflexivity to Coalition Building
DESCRIPTION:Sarah Clark Miller (Penn State University)\nSexual Agency and Sexual Justice as Feminist Resistance:\nFrom Self-Reflexivity to Coalition Building\nTuesday\, October 22 @ 6:30pm (ET)
URL:https://ralphbuncheinstitute.org/event/sexual-agency-and-sexual-justice-as-feminist-resistance-from-self-reflexivity-to-coalition-building-2/
LOCATION:Graduate Center Room 5203\, 365 Fifth Ave\, New York\, NY\, 10016\, United States
ORGANIZER;CN="Center for Global Ethics and Politics":MAILTO:pcipollitti@gradcenter.cuny.edu
END:VEVENT
BEGIN:VEVENT
DTSTART;TZID=UTC:20241024T183000
DTEND;TZID=UTC:20241024T203000
DTSTAMP:20260425T174508
CREATED:20240903T161815Z
LAST-MODIFIED:20240903T161815Z
UID:80083-1729794600-1729801800@ralphbuncheinstitute.org
SUMMARY:"New European democracies embraced the international supervision of human rights and expanded the West".
DESCRIPTION:Dr. Leonardo Castilho is a Human Rights Officer with the United Nations Office of the High Commissioner for Human Rights (OHCHR) in New York. After working for NGOs in his hometown of Rio de Janeiro\, Leonardo joined the UN in 2005 and has since worked for OHCHR and UNFPA in various positions in New York\, Geneva\, and in different countries in Latin America. He began his university studies on Law and International Relations at PUC-Rio\, obtained master’s degrees from Sciences-Po Paris and Oxford University\, and later obtained a PhD degree on International Relations / Political Science from the Graduate Institute for International and Development Studies. Leonardo was recently a Fellow of the Berlin/Potsdam KFG Research Group International Rule of Law: Rise or Decline?
URL:https://ralphbuncheinstitute.org/event/new-european-democracies-embraced-the-international-supervision-of-human-rights-and-expanded-the-west/
LOCATION:Graduate Center Room 5203\, 365 Fifth Ave\, New York\, NY\, 10016\, United States
ORGANIZER;CN="Human Rights Hub":MAILTO:iirtifa@gradcenter.cuny.edu
END:VEVENT
BEGIN:VEVENT
DTSTART;TZID=UTC:20241030T183000
DTEND;TZID=UTC:20241030T200000
DTSTAMP:20260425T174508
CREATED:20241011T201530Z
LAST-MODIFIED:20241030T211504Z
UID:80287-1730313000-1730318400@ralphbuncheinstitute.org
SUMMARY:“Weimar and Us: Lessons for Today from Interwar Germany\, Part III:  National Socialism and the Decline of the Weimar Republic” Sheri Berman in Conversation with John Torpey
DESCRIPTION:TIME CHANGE: Our event will begin at 7 pm tonight (originally 6:30 pm) due to major delays in northeast corridor Amtrak trains. We apologize for the inconvenience. \nA major national election looms and the leader who years earlier had encouraged an insurrection is campaigning to a devoted audience. Politically tinged trials unfold in the courts\, and political violence appears to be spreading amidst armed protests and assassination attempts. The above could describe Weimar Germany in the 1920s\, but also characterizes the United States of America in 2024. This series seeks insights from the history of the Weimar Republic that might illuminate our current social and political climate—a fraught era for the American republic just as Weimar was for Germany. \nIn the third and final event of this series\, join political scientist Sheri Berman (Barnard College\, Columbia University) and sociologist John Torpey (The Graduate Center) for a conversation about \nNational Socialism and the Decline of the Weimar Republic \nDate and Location: \nWednesday\, October 30\, 2024\n6:30 PM-8 PM\, The Skylight Room\, 9th Floor\nThe Graduate Center\, CUNY (365 Fifth Avenue) \nPlease RSVP by clicking the button below. \nSheri Berman is a professor of Political Science at Barnard College\, Columbia University. Her research interests include European history and politics; the development of democracy; populism and fascism; and the history of the left. She has written about these topics for a wide variety of scholarly and non-scholarly publications\, including the New York Times\, The Washington Post\, Foreign Policy\, Foreign Affairs\, and VOX. She currently serves on the boards of the Journal of Democracy\, Dissent and Political Science Quarterly. Her most recent book\, Democracy and Dictatorship in Europe: From the Ancien Regime to the Present Day\, was published by Oxford University Press in 2019. \nJohn Torpey is professor of sociology and history and director of the Ralph Bunche Institute for International Studies at the Graduate Center\, CUNY. He is the author or editor of a number of books\, including Intellectuals\, Socialism\, and Dissent: The East German Opposition and its Legacy (1995); The Invention of the Passport: Surveillance\, Citizenship\, and the State (2000; 2nd ed. 2018); Documenting Individual Identity: The Development of State Practices in the Modern World (edited with Jane Caplan; Princeton: Princeton UP\, 2001); Politics and the Past: On Repairing Historical Injustices (2004); Old Europe\, New Europe\, Core Europe: Transatlantic Relations after the Iraq War (2005)\, Making Whole What Has Been Smashed: On Reparations Politics (2006); The Post-Secular in Question (2012); Legal Integration of Islam: A Transatlantic Comparison (with Christian Joppke\, 2013); Transformations of Warfare in the Contemporary World (edited with David Jacobson\, 2017); and The Three Axial Ages: Moral\, Material\, Mental. He is on the editorial board of Theory and Society and edits a series for Temple University Press titled “Politics\, History\, and Social Change.” \nThis event is presented by the European Union Studies Center of the Ralph Bunche Institute for International Studies\, co-sponsored by the DAAD Alumni Association USA and supported by the “Germany on Campus” program of the Embassy of the Federal Republic of Germany.
URL:https://ralphbuncheinstitute.org/event/weimar-and-us-lessons-for-today-from-interwar-germany-part-iii-national-socialism-and-the-decline-of-the-weimar-republic-sheri-berman-in-conversation-with-john-torpey/
LOCATION:Graduate Center\, Skylight Room 9th Floor\, 365 Fifth Avenue\, New York\, NY\, 10016\, United States
ORGANIZER;CN="European Union Studies Center":MAILTO:msovner@gradcenter.cuny.edu
END:VEVENT
END:VCALENDAR