BEGIN:VCALENDAR
VERSION:2.0
PRODID:-//Ralph Bunche Institute - ECPv6.15.11//NONSGML v1.0//EN
CALSCALE:GREGORIAN
METHOD:PUBLISH
X-WR-CALNAME:Ralph Bunche Institute
X-ORIGINAL-URL:https://ralphbuncheinstitute.org
X-WR-CALDESC:Events for Ralph Bunche Institute
REFRESH-INTERVAL;VALUE=DURATION:PT1H
X-Robots-Tag:noindex
X-PUBLISHED-TTL:PT1H
BEGIN:VTIMEZONE
TZID:UTC
BEGIN:STANDARD
TZOFFSETFROM:+0000
TZOFFSETTO:+0000
TZNAME:UTC
DTSTART:20210101T000000
END:STANDARD
END:VTIMEZONE
BEGIN:VEVENT
DTSTART;TZID=UTC:20220929T120000
DTEND;TZID=UTC:20220929T133000
DTSTAMP:20260425T130547
CREATED:20220828T174020Z
LAST-MODIFIED:20220828T174020Z
UID:79278-1664452800-1664458200@ralphbuncheinstitute.org
SUMMARY:“Forgotten\, Ignored\, and Distorted Histories of Romani People: Past and Present”
DESCRIPTION:The historical record is marked by voids: elided events; disappeared people; erased accounts; marginalized communities. \n  \nThe Center for the Study of the Holocaust\, Genocide\, and Crimes Against Humanity (Graduate Center—City University of New York)\, in association with the School of General Studies and the Master of Arts in Holocaust and Genocide Studies (Stockton University) and the Skirball Department of Hebrew and Judaic Studies (New York University)\, offers a year-long  virtual series\, The Marginalized and the Erased\, to tackle a number of those blank spots. \n  \nPlease join us on September 29\, 2022 at 12:00 noon (EDT) for the first of the series: \n  \n“Forgotten\, Ignored\, and Distorted Histories of Romani People: Past and Present” \n  \nGroundbreaking scholars Ethel Brooks\, Ioanida Costache\, and László Csősz move between past and present as they plumb the history of anti-Roma racist violence\, and the erasure of that history even as the violence persists. Drawing upon testimonies and documents\, their presentations reveal individual\, communal\, and institutional obstacles to remembrance and education. Chair of Women’s\, Gender\, and Sexuality Studies at Rutgers University\, award-winning scholar Prof. Ethel Brooks serves (among many positions) as Chair of the Board of the European Roma Rights Center.  Dr Ioanida Costache\, recipient of a prestigious postdoctoral fellowship at the University of Pennsylvania\, focuses on Romani historical trauma and artistic practice.  Prof. László Csősz\, historian and senior archivist at the National Archives of Hungary is also a Claims Conference University Partnership in Holocaust Studies Senior Lecturer at the ELTE University in Budapest. His current project explores the wartime history of the Hungarian Roma. \nChair: Debórah Dwork \n  \nhttps://gc-cuny-edu.zoom.us/webinar/register/WN_vVXGC9gxRoq1jYLe3FFKpA \n  \n  \nThe Center for the Study of the Holocaust\, Genocide\, and Crimes Against Humanity\, The Graduate Center—City University of New York \nIn association with:\nCenter for Jewish Studies at The Graduate Center—City University of New York \nThe Holocaust and the United Nations Outreach Programme\, Education Outreach Section\, Outreach Division\, Department of Global Communications\, United Nations \n  \nThe School of General Studies and the Master of Arts in Holocaust and Genocide Studies\, Stockton University \nThe Skirball Department of Hebrew and Judaic Studies\, New York University
URL:https://ralphbuncheinstitute.org/event/forgotten-ignored-and-distorted-histories-of-romani-people-past-and-present/
LOCATION:Virtual\, bit.ly/3QVelvP\, New York
CATEGORIES:Archive,Events
ATTACH;FMTTYPE=image/jpeg:https://ralphbuncheinstitute.org/dev/wp-content/uploads/2022/08/Roma-Twitter.jpg
ORGANIZER;CN="Center for the Study of the Holocaust Genocide and Crimes Against Humanity":MAILTO:info@chgcah.org
END:VEVENT
BEGIN:VEVENT
DTSTART;TZID=UTC:20220921T130000
DTEND;TZID=UTC:20220921T150000
DTSTAMP:20260425T130547
CREATED:20220917T165725Z
LAST-MODIFIED:20220917T165725Z
UID:79307-1663765200-1663772400@ralphbuncheinstitute.org
SUMMARY:Suppression of Self-Determination
DESCRIPTION:Launch of a report into Spain’s influence on the tools of repression used to silence activists around the world. \n\n\n\nSeptember 21\, 2022 \n1PM – 3PM EST CUNY Graduate Center365 5th Ave\, New York NY 10016 \n\n\nA light lunch will be served \n  \nRegistration: unpo@unpo.org
URL:https://ralphbuncheinstitute.org/event/suppression-of-self-determination/
LOCATION:CUNY Graduate Center\, 365 Fifth Avenue\, New York\, NY\, 10016\, United States
CATEGORIES:Events
ATTACH;FMTTYPE=image/png:https://ralphbuncheinstitute.org/dev/wp-content/uploads/2022/09/Suppression-of-Self-Determination-Conference-Flyer-small.png
ORGANIZER;CN="Unrepresented ations & Peoples Organization":MAILTO:unpo@unpo.org
END:VEVENT
BEGIN:VEVENT
DTSTART;TZID=UTC:20220623T120000
DTEND;TZID=UTC:20220623T130000
DTSTAMP:20260425T130547
CREATED:20220531T182310Z
LAST-MODIFIED:20220531T182310Z
UID:79236-1655985600-1655989200@ralphbuncheinstitute.org
SUMMARY:Besieged Voices from Ukraine (part 2)
DESCRIPTION:Please join this event organized by our Center for the Study of the Holocaust\, Genocide and Crimes Against Humanity.\n\n \n\nDate: June 23/2022\n\n \n\nTime: 12-1pm EDT\n\n \n\nRegistration link: bit.ly/3xj5Dzd\n\n \n\nRussia’s attack on Ukraine has caused the death and injury of thousands\, the forced flight of millions\, and the physical destruction of cities and towns. Poet Iya Kiva\, journalist Olga Tokariuk\, and art historian expert on Jewish heritage in Ukraine\, Eugeny Kotlyar\, will address the complexities of lives disrupted and the experience of unfolding war from the perspectives of their three professions. Please join us to learn from them.\nCo-Chairs: Natalya Lazar and Elissa Bemporad.
URL:https://ralphbuncheinstitute.org/event/besieged-voices-from-ukraine-part-2/
CATEGORIES:Archive,Events
ATTACH;FMTTYPE=image/png:https://ralphbuncheinstitute.org/dev/wp-content/uploads/2022/05/Ukraine_IG_JUNE-2.png
ORGANIZER;CN="Center for the Study of the Holocaust Genocide and Crimes Against Humanity":MAILTO:info@chgcah.org
END:VEVENT
BEGIN:VEVENT
DTSTART;TZID=UTC:20220505T120000
DTEND;TZID=UTC:20220505T133000
DTSTAMP:20260425T130547
CREATED:20220416T223507Z
LAST-MODIFIED:20220430T191418Z
UID:79179-1651752000-1651757400@ralphbuncheinstitute.org
SUMMARY:PANEL DISCUSSION RE-EXAMINING THE CURRENT INTERNATIONAL FRAMEWORKS ON MIGRATION
DESCRIPTION:An Initiative to Bridge Scholarly Efforts on the Study of Human Rights \n\n\n\n\n\n\n\n\n\n\n\n\n \n\n\n\n\n\n\n\n \n\n\n\n\nInvites you to the second event of the Spring 2022 series:\n\n\n\n\n \n\n\n\n\n \n\n\n \n\n\n\n\n\n\n\nPANEL DISCUSSION\nRE-EXAMINING THE CURRENT INTERNATIONAL FRAMEWORKS ON MIGRATIONDate: Thursday\, May 5 2022\nTime: 12:00 p.m (EDT)\n\n\n\n\n\n\n\n \n\n\n\n\n\n\n\n\n\n\n\n\n\n\n\n\n\n\n\n\n\n\n\n\n\n\n\n\n\n\n\n\n\n\n\n\n\n\n\n\n\n\n\nRegister Here Via Zoom\n\n\n\n\n\n\n\n\n\n\n\n\n\n\n\n\n\n\n\n\n\n\n\n\n\n\n\n\n\n\n\n\n\n\n\n\n\n\n\n\n\n\n\n\n\n\n\n\n\n\n\n \n\n\n\n\n\n\n\n\n\n\n\n\n\n\n\n\n\n\n\n\n\n\n \n\n\n\n\n\nSponsored by: \n       \n\n                
URL:https://ralphbuncheinstitute.org/event/panel-discussion-re-examining-the-current-international-frameworks-on-migration/
CATEGORIES:Archive,Events
ATTACH;FMTTYPE=image/png:https://ralphbuncheinstitute.org/dev/wp-content/uploads/2022/04/Screenshot-2022-04-16-175616.png
ORGANIZER;CN="Human Rights Hub":MAILTO:iirtifa@gradcenter.cuny.edu
END:VEVENT
BEGIN:VEVENT
DTSTART;TZID=UTC:20220428T183000
DTEND;TZID=UTC:20220428T203000
DTSTAMP:20260425T130547
CREATED:20220427T185638Z
LAST-MODIFIED:20220427T185638Z
UID:79197-1651170600-1651177800@ralphbuncheinstitute.org
SUMMARY:Women are Women by Carol Hay (UMass Lowell)
DESCRIPTION:Women are Women \nCarol Hay (UMass Lowell) \nThursday\, April 28\, 6:30 p.m. (ET)\nCUNY Graduate Center\, Room 5382\nAnd online via Zoom \nThis week\, we are excited to welcome feminist philosopher Carol Hay as our fourth and final colloquium speaker of Spring 2022.  \nThis is an in-person event that will allow for virtual participation via Zoom. The in-person talk will be followed by a reception with wine and light snacks. \nIn-person attendance is restricted to members of the Graduate Center community. Members of the public are encouraged to participate virtually via Zoom. If you plan to attend virtually\, please register in advance for this meeting. After registering\, you will receive a confirmation email with information about joining. \n________________________________________ \nAbstract\nWho counts as a woman? Is there some set of core experiences distinctive of womanhood\, some shared set of adventures and exploits that every woman will encounter on her journey from diapers to the grave? The relatively recent visibility of and sensitivity to the experiences of trans people gives us new reason to return to questions that feminists and other gender theorists have been grappling with for decades. These questions take on new urgency in light of the increasing violence and discrimination trans people face across the world—in one of the most recent instances of this discrimination\, for example\, Ukrainian trans women are reportedly being denied passage out of the country\, despite their legal status as women and the imminent danger they face at the hands of Russia’s transphobic policies\, because they are being misgendered as men.\nAccording to the account I defend\, womanhood is best understood as a family resemblance concept. I propose a normative reading of this view that recognizes that decisions about which features are taken to make up paradigmatic cases of womanhood are fundamentally political. This makes possible a conception of womanhood that does not continue to center the experiences of traditionally femme\, non-disabled\, straight cis white women\, while simultaneously making sense of actual historical failures in this regard.\nI’ll argue that when a TERF complains that trans women haven’t had the same experiences as “real” women who were assigned female at birth\, what she’s really saying is\, “Trans women haven’t had the same experiences as women like me.” If 30-plus years of intersectional feminism has taught us anything\, it’s that this is precisely the move that feminists need to stop making. \nSpeaker Bio\nDr. Carol Hay is an Associate Professor in the Department of Philosophy at the University of Massachusetts Lowell. Her most recent book Think Like a Feminist: The Philosophy Behind the Revolution (W.W. Norton & Co.\, 2020\, 2022) has been called “a crisp\, well-informed primer on feminist theory” by Publisher’s Weekly and “a winning mix of scholarship and irreverence” by Kirkus Reviews. Dr. Hay’s academic work focuses primarily on issues in analytic feminism\, liberal social and political philosophy\, oppression studies\, Kantian ethics\, and the philosophy of sex and love. Her 2013 book Kantianism\, Liberalism\, & Feminism: Resisting Oppression received the American Philosophical Association’s Gregory Kavka/UCI Prize in Political Philosophy.  Her 2019 op-ed “Who Counts as a Woman?” received the American Philosophical Association’s Public Philosophy Op-Ed Prize. Dr. Hay’s public philosophy has appeared in venues such as the New York Times\, the Boston Globe\, Aeon magazine\, and IAI News. \nVisit our YouTube page to watch videos of past events\, like our Facebook page\,\nand follow our twitter @global_ethics.  \nCGEP Director: Carol C. Gould. Distinguished Professor\, Philosophy and Political Science\,\nThe Graduate Center and Hunter College\, CUNY \nThe Center for Global Ethics and Politics is part of the Ralph Bunche Institute for International Studies\n at The Graduate Center\, City University of New York.
URL:https://ralphbuncheinstitute.org/event/women-are-women-by-carol-hay-umass-lowell/
LOCATION:Graduate Center\, Room 5302\, 365 Fifth Avenue\, New York\, NY\, 10016\, United States
CATEGORIES:Events
ORGANIZER;CN="Center for Global Ethics and Politics":MAILTO:pcipollitti@gradcenter.cuny.edu
END:VEVENT
BEGIN:VEVENT
DTSTART;TZID=UTC:20220428T183000
DTEND;TZID=UTC:20220428T203000
DTSTAMP:20260425T130547
CREATED:20220413T174810Z
LAST-MODIFIED:20220413T211730Z
UID:79169-1651170600-1651177800@ralphbuncheinstitute.org
SUMMARY:CGEP: Carol Hay on "Women are Women"
DESCRIPTION:Carol Hay (UMass Lowell)Thursday\, April 28\, 6:30 p.m. (ET)CUNY Graduate Center\, Room 5382And online via Zoom \nWe are excited to welcome feminist philosopher Carol Hay as our fourth and final colloquium speaker of Spring 2022. This is an in-person event that will allow for virtual participation via Zoom. The in-person talk will be followed by a reception with wine and light snacks.In-person attendance is restricted to members of the Graduate Center community. Members of the public are encouraged to participate virtually via Zoom. If you plan to attend virtually\, please register in advance for this meeting. After registering\, you will receive a confirmation email with information about joining. \n\n\n\nAbstract \nWho counts as a woman? Is there some set of core experiences distinctive of womanhood\, some shared set of adventures and exploits that every woman will encounter on her journey from diapers to the grave? The relatively recent visibility of and sensitivity to the experiences of trans people gives us new reason to return to questions that feminists and other gender theorists have been grappling with for decades. These questions take on new urgency in light of the increasing violence and discrimination trans people face across the world—in one of the most recent instances of this discrimination\, for example\, Ukrainian trans women are reportedly being denied passage out of the country\, despite their legal status as women and the imminent danger they face at the hands of Russia’s transphobic policies\, because they are being misgendered as men. \nAccording to the account I defend\, womanhood is best understood as a family resemblance concept. I propose a normative reading of this view that recognizes that decisions about which features are taken to make up paradigmatic cases of womanhood are fundamentally political. This makes possible a conception of womanhood that does not continue to center the experiences of traditionally femme\, non-disabled\, straight cis white women\, while simultaneously making sense of actual historical failures in this regard. \nI’ll argue that when a TERF complains that trans women haven’t had the same experiences as “real” women who were assigned female at birth\, what she’s really saying is\, “Trans women haven’t had the same experiences as women like me.” If 30-plus years of intersectional feminism has taught us anything\, it’s that this is precisely the move that feminists need to stop making. \nSpeaker Bio \nDr. Carol Hay is an Associate Professor in the Department of Philosophy at the University of Massachusetts Lowell. Her most recent book Think Like a Feminist: The Philosophy Behind the Revolution (W.W. Norton & Co.\, 2020\, 2022) has been called “a crisp\, well-informed primer on feminist theory” by Publisher’s Weekly and “a winning mix of scholarship and irreverence” by Kirkus Reviews. Dr. Hay’s academic work focuses primarily on issues in analytic feminism\, liberal social and political philosophy\, oppression studies\, Kantian ethics\, and the philosophy of sex and love. Her 2013 book Kantianism\, Liberalism\, & Feminism: Resisting Oppression received the American Philosophical Association’s Gregory Kavka/UCI Prize in Political Philosophy.  Her 2019 op-ed “Who Counts as a Woman?” received the American Philosophical Association’s Public Philosophy Op-Ed Prize. Dr. Hay’s public philosophy has appeared in venues such as the New York Times\, the Boston Globe\, Aeon magazine\, and IAI News.
URL:https://ralphbuncheinstitute.org/event/carol-hay-on-women-are-women/
LOCATION:Graduate Center\, Room 5302\, 365 Fifth Avenue\, New York\, NY\, 10016\, United States
CATEGORIES:Events
ATTACH;FMTTYPE=image/jpeg:https://ralphbuncheinstitute.org/dev/wp-content/uploads/2022/04/cgep.jpg
ORGANIZER;CN="Center for Global Ethics and Politics":MAILTO:pcipollitti@gradcenter.cuny.edu
END:VEVENT
BEGIN:VEVENT
DTSTART;TZID=UTC:20220428T120000
DTEND;TZID=UTC:20220428T133000
DTSTAMP:20260425T130547
CREATED:20220409T163058Z
LAST-MODIFIED:20220409T163312Z
UID:79155-1651147200-1651152600@ralphbuncheinstitute.org
SUMMARY:“Fleeing a Home\, Seeking a Home: Jewish Refugees in Modern Times”
DESCRIPTION:In the thick of a refugee crisis\, with an official count of 82.4 million forcibly displaced persons worldwide\, the Center for the Study of the Holocaust\, Genocide\, and Crimes Against Humanity (GC–CUNY) and the Skirball Department of Hebrew and Judaic Studies (NYU) continue to offer a year-long series that tackles historical and current cases. \n  \nPlease join us on Thursday\, 28 April 2022.  12:00-1:15 PM (Eastern Daylight Time):  \n“Fleeing a Home\, Seeking a Home: Jewish Refugees in Modern Times” \n  \nThis panel grapples with refugee Jews displaced by war in three different geopolitical contexts: Ukraine\, Central Asia\, and the Middle East. Profs Jeff Veidlinger\, Eliyana Adler\, and Shay Hazkani recapture lost voices of displacement and rethink the meaning of “refugee” as they explore the experiences of Ukrainian Jews who left their homes in the wake of anti-Jewish violence unleashed during the Russian Civil War; Polish Jews who\, in  the midst of the Holocaust\, fled the Germans and were deported by the Soviets to Central Asia; and of Moroccan Jews\, who immigrated to Israel shortly after the establishment of the Jewish state. Chair: Prof. Elissa Bemporad. \nThis event is hosted in association with The Holocaust and The United Nations Outreach Programme\, Outreach Division\, Department of Global Communications\, United Nations. \n  \n  \nhttps://gc-cuny.zoom.us/webinar/register/WN_x68dd0OMSCCmf3U2S6Yt4Q
URL:https://ralphbuncheinstitute.org/event/79155/
CATEGORIES:Events
ATTACH;FMTTYPE=image/png:https://ralphbuncheinstitute.org/dev/wp-content/uploads/2022/04/Fleeing_FB.png
ORGANIZER;CN="Center for the Study of the Holocaust Genocide and Crimes Against Humanity":MAILTO:info@chgcah.org
END:VEVENT
BEGIN:VEVENT
DTSTART;TZID=UTC:20220426T120000
DTEND;TZID=UTC:20220426T140000
DTSTAMP:20260425T130547
CREATED:20220413T212517Z
LAST-MODIFIED:20220413T212517Z
UID:79176-1650974400-1650981600@ralphbuncheinstitute.org
SUMMARY:The End of Peace: How Russia’s Invasion of Ukraine is Transforming Europe and Transatlantic Relations
DESCRIPTION:The Otto and Fran Walter Memorial Lecture\nTuesday\, April 26\, at 12:00 noon EST At this critical moment in history\, political scientist Ivan Krastev helps us understand how Russia’s invasion of Ukraine impacts the balance of power in Europe\, transatlantic relations\, and the future of democracy. How does the war change existing divisions\, and what should the role of NATO\, and by extension the U.S. government\, be? Krastev\, author of the recent New York Times op-ed “We Are All Living in Putin’s World Now\,” sheds light on these questions as the situation changes rapidly on the ground. Krastev is the chairman of the Centre for Liberal Strategies and a permanent fellow at the Institute for Human Sciences\, IWM Vienna\, and the author of The Light that Failed: A Reckoning (with Stephen Holmes)\, about the backsliding of democracy in Central and Eastern Europe since 1989\, among other books. He speaks with John Torpey\, professor of sociology and history and director of the EU Studies Center.\n\n\n\n\n\nREGISTER HERE VIA ZOOM
URL:https://ralphbuncheinstitute.org/event/the-end-of-peace-how-russias-invasion-of-ukraine-is-transforming-europe-and-transatlantic-relations/
ORGANIZER;CN="European Union Studies Center":MAILTO:msovner@gradcenter.cuny.edu
END:VEVENT
BEGIN:VEVENT
DTSTART;TZID=UTC:20220422T120000
DTEND;TZID=UTC:20220422T133000
DTSTAMP:20260425T130547
CREATED:20220409T161333Z
LAST-MODIFIED:20220409T162323Z
UID:79150-1650628800-1650634200@ralphbuncheinstitute.org
SUMMARY:The International Criminal Court at 20: What Next for International Criminal Justice? 
DESCRIPTION:The International Criminal Court at 20: What Next for International Criminal Justice? on April 22\, from 12:00-1:30 pm: \nZoom Registration Link: https://bit.ly/3wQvrUB​  \nIn-person Registration Link: https://form.jotform.com/220934980725967 \n ICC at 20 Event Flyer
URL:https://ralphbuncheinstitute.org/event/the-international-criminal-court-at-20-what-next-for-international-criminal-justice-on-april-22-from-1200-130-pm/
LOCATION:CCNY Downtown Auditorium\, 25 Broadway\, 7th Floor\, New York\, NY\, United States
CATEGORIES:Events
ATTACH;FMTTYPE=image/png:https://ralphbuncheinstitute.org/dev/wp-content/uploads/2022/04/Critical-Perspectives-on-human-rights-2022-CCNY.png
ORGANIZER;CN="Human Rights Forum":MAILTO:dzach@ccny.cuny.edu
END:VEVENT
BEGIN:VEVENT
DTSTART;TZID=UTC:20220421T130000
DTEND;TZID=UTC:20220421T150000
DTSTAMP:20260425T130547
CREATED:20220409T160859Z
LAST-MODIFIED:20220409T162345Z
UID:79144-1650546000-1650553200@ralphbuncheinstitute.org
SUMMARY:The Life and Scholarship of Eric Weitz: A Memorial Panel Tribute to CCNY's Distinguished Professor of History
DESCRIPTION:April 21\, 2022\, from 1:00 to 3:00 pm: \nZoom Registration Link: http://bit.ly/3qrvC5c​ \nIn-person Registration Link: https://form.jotform.com/220934980725967 \n Weitz Memorial Panel 4-21
URL:https://ralphbuncheinstitute.org/event/the-life-and-scholarship-of-eric-weitz-a-memorial-panel-tribute-to-ccnys-distinguished-professor-of-history/
LOCATION:CCNY Downtown Auditorium\, 25 Broadway\, 7th Floor\, New York\, NY\, United States
CATEGORIES:Events
ATTACH;FMTTYPE=image/png:https://ralphbuncheinstitute.org/dev/wp-content/uploads/2022/04/Critical-Perspectives-on-human-rights-2022-CCNY.png
ORGANIZER;CN="Human Rights Forum":MAILTO:dzach@ccny.cuny.edu
END:VEVENT
BEGIN:VEVENT
DTSTART;TZID=UTC:20220420T180000
DTEND;TZID=UTC:20220420T193000
DTSTAMP:20260425T130547
CREATED:20220409T160216Z
LAST-MODIFIED:20220409T162451Z
UID:79138-1650477600-1650483000@ralphbuncheinstitute.org
SUMMARY:War and Justice in the 21st Century with ICC's founder Luis Moreno Ocampo
DESCRIPTION:The Keynote Address on April 20\, 2022\, 6:00-7:30 pm\, by founding and former Chief International Criminal Court (ICC) Prosecutor Luis Moreno Ocampo:  \nZoom Registration Link: https://bit.ly/3wRFLM7  \nIn-person Registration Link: https://form.jotform.com/220934980725967 \nMoreno Ocampo Keynote Flyer
URL:https://ralphbuncheinstitute.org/event/the-international-criminal-court-at-20-what-next-for-international-criminal-justice/
LOCATION:CCNY Downtown Auditorium\, 25 Broadway\, 7th Floor\, New York\, NY\, United States
CATEGORIES:Events
ATTACH;FMTTYPE=image/png:https://ralphbuncheinstitute.org/dev/wp-content/uploads/2022/04/Critical-Perspectives-on-human-rights-2022-CCNY.png
ORGANIZER;CN="Human Rights Forum":MAILTO:dzach@ccny.cuny.edu
END:VEVENT
END:VCALENDAR