BEGIN:VCALENDAR
VERSION:2.0
PRODID:-//Ralph Bunche Institute - ECPv6.15.11//NONSGML v1.0//EN
CALSCALE:GREGORIAN
METHOD:PUBLISH
X-ORIGINAL-URL:https://ralphbuncheinstitute.org
X-WR-CALDESC:Events for Ralph Bunche Institute
REFRESH-INTERVAL;VALUE=DURATION:PT1H
X-Robots-Tag:noindex
X-PUBLISHED-TTL:PT1H
BEGIN:VTIMEZONE
TZID:UTC
BEGIN:STANDARD
TZOFFSETFROM:+0000
TZOFFSETTO:+0000
TZNAME:UTC
DTSTART:20250101T000000
END:STANDARD
END:VTIMEZONE
BEGIN:VEVENT
DTSTART;TZID=UTC:20260420T170000
DTEND;TZID=UTC:20260420T190000
DTSTAMP:20260424T115718
CREATED:20260318T183230Z
LAST-MODIFIED:20260318T183230Z
UID:80844-1776704400-1776711600@ralphbuncheinstitute.org
SUMMARY:The Origins and Future of the United Nations
DESCRIPTION:Moderator\nJohn Torpey\, Director \nRalph Bunche Institute for International Studies \nPresenters\nLukas Haynes\, RBI Visiting Scholar\, discussing Peace Through Power: \nFDR’s Military Leaders and the Pragmatism of the UN Charter \nTapio Kanninen\, RBI Senior Fellow\, discussing Revitalizing the United Nations: \nMaking and Keeping the Peace \nCommentators\nRichard Gowan\, International Crisis Group \nStephen Schlesinger\, World Policy Institute (ret.) \nDate and time\nMonday\, April 20\, 2026 5-6:30pm \nWine and Cheese Reception to Follow \nPlace\nRalph Bunche Institute for International Studies\, Room 5203 \nCUNY Graduate Center \n365 Fifth Avenue \nNew York\, NY 10016
URL:https://ralphbuncheinstitute.org/event/the-origins-and-future-of-the-united-nations/
LOCATION:Graduate Center Room 5203\, 365 Fifth Ave\, New York\, NY\, 10016\, United States
ATTACH;FMTTYPE=image/jpeg:https://ralphbuncheinstitute.org/dev/wp-content/uploads/2026/03/origins-and-future-of-the-un.jpg
END:VEVENT
END:VCALENDAR