BEGIN:VCALENDAR
VERSION:2.0
PRODID:-//Ralph Bunche Institute - ECPv6.15.11//NONSGML v1.0//EN
CALSCALE:GREGORIAN
METHOD:PUBLISH
X-ORIGINAL-URL:https://ralphbuncheinstitute.org
X-WR-CALDESC:Events for Ralph Bunche Institute
REFRESH-INTERVAL;VALUE=DURATION:PT1H
X-Robots-Tag:noindex
X-PUBLISHED-TTL:PT1H
BEGIN:VTIMEZONE
TZID:UTC
BEGIN:STANDARD
TZOFFSETFROM:+0000
TZOFFSETTO:+0000
TZNAME:UTC
DTSTART:20240101T000000
END:STANDARD
END:VTIMEZONE
BEGIN:VEVENT
DTSTART;TZID=UTC:20251104T080000
DTEND;TZID=UTC:20251104T170000
DTSTAMP:20260424T210719
CREATED:20251104T212258Z
LAST-MODIFIED:20251104T225644Z
UID:80675-1762243200-1762275600@ralphbuncheinstitute.org
SUMMARY:Furious Minds: The Making of the MAGA New Right
DESCRIPTION:Join for a conversation between Laura Field and Richard Wolin on the intellectual descent from mid-century conservatism to Trumpism—one tracing its historical gestation\, the other its ideological mutation—and as a warning that the U.S. now faces a radical\, post-conservative right driven more by myth and ressentiment than by any genuine political philosophy.
URL:https://ralphbuncheinstitute.org/event/furious-minds-the-making-of-the-maga-new-right/
LOCATION:Graduate Center Room 8301\, 365 Fifth Avenue\, New York\, NY\, 10016\, United States
ATTACH;FMTTYPE=image/png:https://ralphbuncheinstitute.org/dev/wp-content/uploads/2025/11/ChatGPT-Image-Nov-4-2025-01_21_52-PM.png
END:VEVENT
END:VCALENDAR