BEGIN:VCALENDAR
VERSION:2.0
PRODID:-//Ralph Bunche Institute - ECPv6.15.11//NONSGML v1.0//EN
CALSCALE:GREGORIAN
METHOD:PUBLISH
X-WR-CALNAME:Ralph Bunche Institute
X-ORIGINAL-URL:https://ralphbuncheinstitute.org
X-WR-CALDESC:Events for Ralph Bunche Institute
REFRESH-INTERVAL;VALUE=DURATION:PT1H
X-Robots-Tag:noindex
X-PUBLISHED-TTL:PT1H
BEGIN:VTIMEZONE
TZID:UTC
BEGIN:STANDARD
TZOFFSETFROM:+0000
TZOFFSETTO:+0000
TZNAME:UTC
DTSTART:20240101T000000
END:STANDARD
END:VTIMEZONE
BEGIN:VEVENT
DTSTART;TZID=UTC:20250908T160000
DTEND;TZID=UTC:20250908T183000
DTSTAMP:20260425T004034
CREATED:20250902T163404Z
LAST-MODIFIED:20250902T163404Z
UID:80601-1757347200-1757356200@ralphbuncheinstitute.org
SUMMARY:Political Incorporation of Immigrants in Japan: The Focus on the Intention of Citizenship Acquisition
DESCRIPTION:Join us for our first co-sponsored event of the Fall 2025 Semester \nPolitical Incorporation of Immigrants in Japan:\nThe Focus on the Intention of Citizenship Acquisition\n\n\n\n\n\n\n\n\n\n\n\n\n\n\n\n\n\n\n\n\n\n\n\n\n\n\n\n\n\n\n\n\n\n\n\n\n\n\n\n\n\n\n\n\n\n\n\n\n\n\n\n\n\n\n\n\n\n\n\n\n\nThe Public Policy Workshop and IRelevant – are collaborating with the Ralph Institute for International Studies and the International Migration Studies Program to sponsor a presentation by Prof. Hirohisa Takensohita\, who is visiting from the Department of Political Science at Keio University in Tokyo\, Japan. \nHe will speak on\, “Political Incorporation of Immigrants in Japan: The Focus on the Intention of Citizenship Acquisition\,” on Monday next week 9/8 at 4.15pm. The event will be in person in the Ralph Bunche Institute suite and remote. \nProf. Michael Sharpe will moderate the conversation.\n\n\n\n\n\n\n\n\n\n\n\n\n\n\n\n\n\n\n\n\n\n\n\n\n\n\n\n\n\n\n\n\n\nMonday\, September 8th\, 4:15 p.m. (ET) \nRalph Bunche Institute\n365 Fifth Ave\, Room 5203\nNew York\, NY 10016\n\n\n\n\n\n\n\n\n\n\n\n\n\n\n\n\n\n\n\n\n\n\nCopyright © 2025 Ralph Bunche Institute\, All rights reserved.
URL:https://ralphbuncheinstitute.org/event/political-incorporation-of-immigrants-in-japan-the-focus-on-the-intention-of-citizenship-acquisition/
LOCATION:Graduate Center Room 5203\, 365 Fifth Ave\, New York\, NY\, 10016\, United States
ATTACH;FMTTYPE=image/png:https://ralphbuncheinstitute.org/dev/wp-content/uploads/2025/09/Screenshot-2025-09-02-122239.png
END:VEVENT
END:VCALENDAR