BEGIN:VCALENDAR
VERSION:2.0
PRODID:-//Ralph Bunche Institute - ECPv6.15.11//NONSGML v1.0//EN
CALSCALE:GREGORIAN
METHOD:PUBLISH
X-ORIGINAL-URL:https://ralphbuncheinstitute.org
X-WR-CALDESC:Events for Ralph Bunche Institute
REFRESH-INTERVAL;VALUE=DURATION:PT1H
X-Robots-Tag:noindex
X-PUBLISHED-TTL:PT1H
BEGIN:VTIMEZONE
TZID:UTC
BEGIN:STANDARD
TZOFFSETFROM:+0000
TZOFFSETTO:+0000
TZNAME:UTC
DTSTART:20240101T000000
END:STANDARD
END:VTIMEZONE
BEGIN:VEVENT
DTSTART;TZID=UTC:20250905T080000
DTEND;TZID=UTC:20250905T170000
DTSTAMP:20260425T004300
CREATED:20250905T194640Z
LAST-MODIFIED:20250905T194640Z
UID:80605-1757059200-1757091600@ralphbuncheinstitute.org
SUMMARY:Contemporary China: Demystifying Economic and Social Changes
DESCRIPTION:A panel of experts helps us understand the complex realities of China today. \n\n\n\n\nElebash Recital Hall \nFrom the perspective of the West\, China is easily misunderstood. Is it capitalist or communist\, an adversary or a vital economic partner\, a modernized nation or a retrograde regime? A panel of experts demystifies the vast economic and societal changes that have transformed China in recent decades. They discuss China’s remarkable strides toward eradicating poverty and the simultaneous growing inequality that has produced a new billionaire class; the decline in the birthrate despite the end of the One Child Policy; and how increased access to technology\, with the limitations of censorship\, is affecting the social landscape. \nFeaturing Yong Cai\, associate professor of sociology at the University of North Carolina\, Chapel Hill; Qin Gao\, professor of social policy and social work at Columbia University; Rongbin Han\, professor of international affairs at the University of Georgia; and Branko Milanovic\, research professor at the Stone Center on Socio-Economic Inequality\, CUNY Graduate Center\, author of Capitalism\, Alone and Visions of Inequality. Moderated by John Torpey\, professor of sociology and history and director of the Ralph Bunche Institute for International Studies at the CUNY Graduate Center. \nPresented with the Stone Center on Socio-Economic Inequality\, the China at CUNY Initiative\, and the Ralph Bunche Institute for International Studies. \nA video of this event will be posted a few days later on our YouTube Channel. \nPlease contact Jimmy Cok at jcok@gc.cuny.edu in advance for CART services or any additional accessibility requests or concerns for in-person events.​ This event will be livestreamed\, and closed captions will be provided. \nReview our Building Entry Policy for in-person events
URL:https://ralphbuncheinstitute.org/event/contemporary-china-demystifying-economic-and-social-changes/
LOCATION:Graduate Center Elebash Recital Hall\, 365 Fifth Avenue\, New York\, NY\, 10016\, United States
CATEGORIES:Events
ATTACH;FMTTYPE=image/webp:https://ralphbuncheinstitute.org/dev/wp-content/uploads/2025/09/Contemporary-China-w-Torpey.webp
END:VEVENT
END:VCALENDAR