BEGIN:VCALENDAR
VERSION:2.0
PRODID:-//Ralph Bunche Institute - ECPv6.15.11//NONSGML v1.0//EN
CALSCALE:GREGORIAN
METHOD:PUBLISH
X-WR-CALNAME:Ralph Bunche Institute
X-ORIGINAL-URL:https://ralphbuncheinstitute.org
X-WR-CALDESC:Events for Ralph Bunche Institute
REFRESH-INTERVAL;VALUE=DURATION:PT1H
X-Robots-Tag:noindex
X-PUBLISHED-TTL:PT1H
BEGIN:VTIMEZONE
TZID:America/New_York
BEGIN:DAYLIGHT
TZOFFSETFROM:-0500
TZOFFSETTO:-0400
TZNAME:EDT
DTSTART:20240310T070000
END:DAYLIGHT
BEGIN:STANDARD
TZOFFSETFROM:-0400
TZOFFSETTO:-0500
TZNAME:EST
DTSTART:20241103T060000
END:STANDARD
BEGIN:DAYLIGHT
TZOFFSETFROM:-0500
TZOFFSETTO:-0400
TZNAME:EDT
DTSTART:20250309T070000
END:DAYLIGHT
BEGIN:STANDARD
TZOFFSETFROM:-0400
TZOFFSETTO:-0500
TZNAME:EST
DTSTART:20251102T060000
END:STANDARD
BEGIN:DAYLIGHT
TZOFFSETFROM:-0500
TZOFFSETTO:-0400
TZNAME:EDT
DTSTART:20260308T070000
END:DAYLIGHT
BEGIN:STANDARD
TZOFFSETFROM:-0400
TZOFFSETTO:-0500
TZNAME:EST
DTSTART:20261101T060000
END:STANDARD
END:VTIMEZONE
BEGIN:VEVENT
DTSTART;TZID=America/New_York:20250221T120000
DTEND;TZID=America/New_York:20250221T133000
DTSTAMP:20260425T122935
CREATED:20250208T191501Z
LAST-MODIFIED:20250208T194552Z
UID:80410-1740139200-1740144600@ralphbuncheinstitute.org
SUMMARY:Odious Debt and the Making of Latin America: A 400-Year History of Moral Bankruptcy
DESCRIPTION:Edward Jones Corredera \nSenior Research Fellow \nMax Planck Institute for Comparative Public Law and International Law \nBio: Edward Jones Corredera is a Senior Research Fellow at the Max Planck Institute for Comparative Public Law and International Law and a Lecturer at the UNED. He is the author of Odious Debt: Bankruptcy\, International Law\, and the Making of Latin America (OUP 2024). He completed his PhD in History at the University of Cambridge in 2020 and is a Fellow of the Royal Historical Society.
URL:https://ralphbuncheinstitute.org/event/odious-debt-and-the-making-of-latin-america-a-400-year-history-of-moral-bankruptcy/
LOCATION:Graduate Center History Lounge\, 365 Fifth Avenue\, New York\, NY\, 10016\, United States
CATEGORIES:Events
ATTACH;FMTTYPE=image/jpeg:https://ralphbuncheinstitute.org/dev/wp-content/uploads/2025/02/Odious-Debt-and-the-Making-of-Latin-America_-A-400-Year-History-of-Moral-Bankruptcy.jpg
END:VEVENT
END:VCALENDAR