BEGIN:VCALENDAR
VERSION:2.0
PRODID:-//Ralph Bunche Institute - ECPv6.15.11//NONSGML v1.0//EN
CALSCALE:GREGORIAN
METHOD:PUBLISH
X-ORIGINAL-URL:https://ralphbuncheinstitute.org
X-WR-CALDESC:Events for Ralph Bunche Institute
REFRESH-INTERVAL;VALUE=DURATION:PT1H
X-Robots-Tag:noindex
X-PUBLISHED-TTL:PT1H
BEGIN:VTIMEZONE
TZID:UTC
BEGIN:STANDARD
TZOFFSETFROM:+0000
TZOFFSETTO:+0000
TZNAME:UTC
DTSTART:20240101T000000
END:STANDARD
END:VTIMEZONE
BEGIN:VEVENT
DTSTART;TZID=UTC:20250219T120000
DTEND;TZID=UTC:20250219T130000
DTSTAMP:20260425T123012
CREATED:20250123T160756Z
LAST-MODIFIED:20250208T194558Z
UID:80406-1739966400-1739970000@ralphbuncheinstitute.org
SUMMARY:Victim Activists in Mexico: Social and Political Mobilization amid Extreme Violence and Disappearances
DESCRIPTION:Books are under attack in the United States. PEN America counted 10\,000 books banned in public schools\, with public libraries close behind.\n\n\n\n\n\n\n\n\n\n\n\n  \n\n\n\n\n\n\n\n\n\n\n\n\n\n\n\n  \n\n\n\n\n\n\n\n\n\n\n\nProtesting that culture of censorship and suppression\, the Center for the Study of the Holocaust\, Genocide\, and Crimes Against Humanity (Graduate Center—City University of New York)\, in cooperation with Marion Kaplan\, Professor Emerita of Hebrew and Judaic Studies (NYU) and Raz Segal\, Endowed Professor in the Study of Modern Genocide (Stockton University)\, is hosting a year-long virtual series\, “In Praise of Books.” We celebrate new scholarship by emerging as well as established scholars\, prizing their creativity and rigor. \nPlease join us for the third of the series:\n\n\n\n\n\n\n\n\n\n\n\n  \n\n\n\n\n\n\n\n\n\n\n\nWednesday 19 February 2025.\n12:00-1:00 PM (EST) Virtual \n“Victim Activists in Mexico: Social and Political Mobilization amid Extreme Violence and Disappearances”\n\n\n\n\n\n\n\n\n\n\n\n  \n\n\n\n\n\n\n\n\n\n\n\n\n\n\n\n  \n\n\n\n\n\n\n\n\n\n\n\nProfessor Alexandra Délano Alonso will engage authors Yael Siman and Matthew Hone in a conversation about their new book\, Victim Activists in Mexico: Social and Political Mobilization amid Extreme Violence and Disappearances. Amid the extreme violence that plagues Mexico\, enforced disappearances have surged\, exacerbated by systemic macro-criminality and widespread impunity. Families of the disappeared face nearly insurmountable challenges. Yet a robust movement has emerged\, led predominantly by courageous relatives—primarily mothers—who have become victim-activists. Prof Alexandra Délano Alonso\, Professor of Politics and Global Studies (The New School)\, and Profs Yael Siman (Iberoamericana University) and Matthew Hone (Stockton University) will discuss grassroots struggles for justice and the many forms of resistance these families have developed. \nChair: Center Director\, Debórah Dwork\n\n\n\n\n\n\n\n\n\n\n\n 
URL:https://ralphbuncheinstitute.org/event/victim-activists-in-mexico-social-and-political-mobilization-amid-extreme-violence-and-disappearances/
LOCATION:Virtual\, bit.ly/3QVelvP\, New York
CATEGORIES:Events
ORGANIZER;CN="Center for the Study of the Holocaust Genocide and Crimes Against Humanity":MAILTO:info@chgcah.org
END:VEVENT
END:VCALENDAR