BEGIN:VCALENDAR
VERSION:2.0
PRODID:-//Ralph Bunche Institute - ECPv6.15.11//NONSGML v1.0//EN
CALSCALE:GREGORIAN
METHOD:PUBLISH
X-ORIGINAL-URL:https://ralphbuncheinstitute.org
X-WR-CALDESC:Events for Ralph Bunche Institute
REFRESH-INTERVAL;VALUE=DURATION:PT1H
X-Robots-Tag:noindex
X-PUBLISHED-TTL:PT1H
BEGIN:VTIMEZONE
TZID:UTC
BEGIN:STANDARD
TZOFFSETFROM:+0000
TZOFFSETTO:+0000
TZNAME:UTC
DTSTART:20230101T000000
END:STANDARD
END:VTIMEZONE
BEGIN:VEVENT
DTSTART;TZID=UTC:20241213T170000
DTEND;TZID=UTC:20241213T200000
DTSTAMP:20260425T160700
CREATED:20241202T172155Z
LAST-MODIFIED:20241209T200056Z
UID:80393-1734109200-1734120000@ralphbuncheinstitute.org
SUMMARY:RBI Holiday Party
DESCRIPTION:This Event Was Cancelled. Please apologize for the inconvenience \nFriday\, December 13\, 5:00 p.m. (ET)\nGC Room 5203
URL:https://ralphbuncheinstitute.org/event/rbi-holiday-party/
LOCATION:Graduate Center Room 5203\, 365 Fifth Ave\, New York\, NY\, 10016\, United States
END:VEVENT
END:VCALENDAR