BEGIN:VCALENDAR
VERSION:2.0
PRODID:-//Ralph Bunche Institute - ECPv6.15.11//NONSGML v1.0//EN
CALSCALE:GREGORIAN
METHOD:PUBLISH
X-ORIGINAL-URL:https://ralphbuncheinstitute.org
X-WR-CALDESC:Events for Ralph Bunche Institute
REFRESH-INTERVAL;VALUE=DURATION:PT1H
X-Robots-Tag:noindex
X-PUBLISHED-TTL:PT1H
BEGIN:VTIMEZONE
TZID:UTC
BEGIN:STANDARD
TZOFFSETFROM:+0000
TZOFFSETTO:+0000
TZNAME:UTC
DTSTART:20230101T000000
END:STANDARD
END:VTIMEZONE
BEGIN:VEVENT
DTSTART;TZID=UTC:20241024T183000
DTEND;TZID=UTC:20241024T203000
DTSTAMP:20260425T192512
CREATED:20240903T161815Z
LAST-MODIFIED:20240903T161815Z
UID:80083-1729794600-1729801800@ralphbuncheinstitute.org
SUMMARY:"New European democracies embraced the international supervision of human rights and expanded the West".
DESCRIPTION:Dr. Leonardo Castilho is a Human Rights Officer with the United Nations Office of the High Commissioner for Human Rights (OHCHR) in New York. After working for NGOs in his hometown of Rio de Janeiro\, Leonardo joined the UN in 2005 and has since worked for OHCHR and UNFPA in various positions in New York\, Geneva\, and in different countries in Latin America. He began his university studies on Law and International Relations at PUC-Rio\, obtained master’s degrees from Sciences-Po Paris and Oxford University\, and later obtained a PhD degree on International Relations / Political Science from the Graduate Institute for International and Development Studies. Leonardo was recently a Fellow of the Berlin/Potsdam KFG Research Group International Rule of Law: Rise or Decline?
URL:https://ralphbuncheinstitute.org/event/new-european-democracies-embraced-the-international-supervision-of-human-rights-and-expanded-the-west/
LOCATION:Graduate Center Room 5203\, 365 Fifth Ave\, New York\, NY\, 10016\, United States
ORGANIZER;CN="Human Rights Hub":MAILTO:iirtifa@gradcenter.cuny.edu
END:VEVENT
END:VCALENDAR