BEGIN:VCALENDAR
VERSION:2.0
PRODID:-//Ralph Bunche Institute - ECPv6.15.11//NONSGML v1.0//EN
CALSCALE:GREGORIAN
METHOD:PUBLISH
X-ORIGINAL-URL:https://ralphbuncheinstitute.org
X-WR-CALDESC:Events for Ralph Bunche Institute
REFRESH-INTERVAL;VALUE=DURATION:PT1H
X-Robots-Tag:noindex
X-PUBLISHED-TTL:PT1H
BEGIN:VTIMEZONE
TZID:UTC
BEGIN:STANDARD
TZOFFSETFROM:+0000
TZOFFSETTO:+0000
TZNAME:UTC
DTSTART:20230101T000000
END:STANDARD
END:VTIMEZONE
BEGIN:VEVENT
DTSTART;TZID=UTC:20241017T180000
DTEND;TZID=UTC:20241017T200000
DTSTAMP:20260425T191623
CREATED:20241015T235017Z
LAST-MODIFIED:20241015T235143Z
UID:80310-1729188000-1729195200@ralphbuncheinstitute.org
SUMMARY:First US Amb. to Ukraine at the GC
DESCRIPTION:** While the formal event will begin at 6pm\, please note that we have organized a reception for students commencing at 5.30pm so that they can meet and chat with Dr. Popadiuk. We encourage you to attend and meet a distinguished alumnus of our program.  \nRoman Popadiuk is a retired member of the career Senior Foreign Service and was the first US ambassador to independent Ukraine. He was Executive Director of the George H.W. Bush Presidential Library Foundation and is President of the Diplomacy Center Foundation. \nJanet Elise Johnson is Endowed Chair in Women’s and Gender Studies and Professor of Political Science at Brooklyn College and the Graduate Center\, CUNY. \nCosponsored by the Ralph Bunche Institute and IRrelevant. \nRSVP Here
URL:https://ralphbuncheinstitute.org/event/first-us-amb-to-ukraine-at-the-gc/
LOCATION:NY
CATEGORIES:Events
ATTACH;FMTTYPE=image/jpeg:https://ralphbuncheinstitute.org/dev/wp-content/uploads/2024/10/RBI-event-17-Oct-24.jpg
END:VEVENT
END:VCALENDAR