BEGIN:VCALENDAR
VERSION:2.0
PRODID:-//Ralph Bunche Institute - ECPv6.15.11//NONSGML v1.0//EN
CALSCALE:GREGORIAN
METHOD:PUBLISH
X-WR-CALNAME:Ralph Bunche Institute
X-ORIGINAL-URL:https://ralphbuncheinstitute.org
X-WR-CALDESC:Events for Ralph Bunche Institute
REFRESH-INTERVAL;VALUE=DURATION:PT1H
X-Robots-Tag:noindex
X-PUBLISHED-TTL:PT1H
BEGIN:VTIMEZONE
TZID:America/New_York
BEGIN:DAYLIGHT
TZOFFSETFROM:-0500
TZOFFSETTO:-0400
TZNAME:EDT
DTSTART:20230312T070000
END:DAYLIGHT
BEGIN:STANDARD
TZOFFSETFROM:-0400
TZOFFSETTO:-0500
TZNAME:EST
DTSTART:20231105T060000
END:STANDARD
BEGIN:DAYLIGHT
TZOFFSETFROM:-0500
TZOFFSETTO:-0400
TZNAME:EDT
DTSTART:20240310T070000
END:DAYLIGHT
BEGIN:STANDARD
TZOFFSETFROM:-0400
TZOFFSETTO:-0500
TZNAME:EST
DTSTART:20241103T060000
END:STANDARD
BEGIN:DAYLIGHT
TZOFFSETFROM:-0500
TZOFFSETTO:-0400
TZNAME:EDT
DTSTART:20250309T070000
END:DAYLIGHT
BEGIN:STANDARD
TZOFFSETFROM:-0400
TZOFFSETTO:-0500
TZNAME:EST
DTSTART:20251102T060000
END:STANDARD
END:VTIMEZONE
BEGIN:VEVENT
DTSTART;TZID=America/New_York:20241009T183000
DTEND;TZID=America/New_York:20241009T200000
DTSTAMP:20260425T191623
CREATED:20240925T040209Z
LAST-MODIFIED:20241003T154941Z
UID:80112-1728498600-1728504000@ralphbuncheinstitute.org
SUMMARY:"Weimar and Us: Lessons for Today from Interwar Germany—Part I: The Military\, Political Violence\, and Defense of the Republic" Isabel Hull in Conversation with Steven Remy
DESCRIPTION:A major national election looms and the leader who years earlier had encouraged an insurrection is campaigning to a devoted audience. Politically tinged trials unfold in the courts\, and political violence appears to be spreading amidst armed protests and assassination attempts. The above could describe Weimar Germany in the 1920s\, but also characterizes the United States of America in 2024. This series seeks insights from the history of the Weimar Republic that might illuminate our current social and political climate—a fraught era for the American republic just as Weimar was for Germany. \nIn the first of three events\, join historians Isabel Hull (John Stambaugh Professor of History Emerita\, Cornell University) and Steven Remy (History\, Brooklyn College and The Graduate Center) for a conversation about \nThe Military\, Political Violence\, and Defense of the Republic \nDate and Location: \nWednesday\, October 9\, 2024\n6:30 PM – 8:00 PM\, The Skylight Room\, 9th Floor\nThe Graduate Center\, CUNY (365 Fifth Avenue) \nPlease RSVP by clicking the button below.\n \nIsabel V. Hull (Ph.D. Yale 1978) is John Stambaugh Professor of History Emerita at Cornell University. Her research has ranged broadly in German history from the early modern to the modern period\, and from governance\, the history of sexuality\, military culture\, to international law. A Scrap of Paper: Breaking and Making International Law in the First World War (Ithaca\, NY: Cornell University Press\, 2014) won the American Society of International Law book prize in 2016. A member of the American Academy of Arts and Sciences\, Hull was awarded the Max Weber Stiftung-Historisches Kolleg Prize for lifetime achievement in German history and studies in 2013. She is currently writing a book on the international law governing when states could legitimately go to war (jus ad bellum) in Europe just before 1914. \nSteven Remy has taught modern European history at Brooklyn College and the CUNY Graduate Center since 2002. He teaches courses in modern European and German history\, Nazi Germany\, the politics and culture of memory in 20th-century Europe\, colonial wars\, and historical methodology. Steven Remy is a scholar of modern German history. The Heidelberg Myth: The Nazification and Denazification of a German University (Harvard\, 2003)\, examined the responses of scholars to National Socialism. The Malmedy Massacre: The War Crimes Trial Controversy (Harvard\, 2017) deals with debates over war crimes trials in the U.S. and Germany. His most recent book is War Crimes: Law\, Politics\, & Armed Conflict in the Modern World (Taylor & Francis\, 2023). \nThis event is presented by the European Union Studies Center of the Ralph Bunche Institute for International Studies\, co-sponsored by the DAAD Alumni Association USA and supported by the “Germany on Campus” program of the Embassy of the Federal Republic of Germany.
URL:https://ralphbuncheinstitute.org/event/weimar-and-us-lessons-for-today-from-interwar-germany-part-i-the-military-political-violence-and-defense-of-the-republic-isabel-hull-in-conversation-with-steven-remy/
LOCATION:Graduate Center\, Skylight Room 9th Floor\, 365 Fifth Avenue\, New York\, NY\, 10016\, United States
CATEGORIES:Events
ATTACH;FMTTYPE=image/jpeg:https://ralphbuncheinstitute.org/dev/wp-content/uploads/2024/09/WeimarAndUs-1-Oct-9.jpg
ORGANIZER;CN="European Union Studies Center":MAILTO:msovner@gradcenter.cuny.edu
END:VEVENT
END:VCALENDAR