BEGIN:VCALENDAR
VERSION:2.0
PRODID:-//Ralph Bunche Institute - ECPv6.15.11//NONSGML v1.0//EN
CALSCALE:GREGORIAN
METHOD:PUBLISH
X-ORIGINAL-URL:https://ralphbuncheinstitute.org
X-WR-CALDESC:Events for Ralph Bunche Institute
REFRESH-INTERVAL;VALUE=DURATION:PT1H
X-Robots-Tag:noindex
X-PUBLISHED-TTL:PT1H
BEGIN:VTIMEZONE
TZID:UTC
BEGIN:STANDARD
TZOFFSETFROM:+0000
TZOFFSETTO:+0000
TZNAME:UTC
DTSTART:20230101T000000
END:STANDARD
END:VTIMEZONE
BEGIN:VEVENT
DTSTART;TZID=UTC:20240901T080000
DTEND;TZID=UTC:20240930T233000
DTSTAMP:20260425T211241
CREATED:20240903T160221Z
LAST-MODIFIED:20240903T160221Z
UID:80065-1725177600-1727739000@ralphbuncheinstitute.org
SUMMARY:Call for Papers
DESCRIPTION:Call for Papers\nDeadline: Sep 30 2024\n\n\n\n\n\n\n\n\n\n\n\n\n\n\n\n\n\n\nThe CUNY Human Rights Workshop (HRW) is an interdisciplinary\, scholarly forum that fosters discussion and debate on emerging scholarship and policy work relating to human rights issues\, broadly defined. The workshop is open to faculty and graduate students (within and beyond CUNY) as well as human rights practitioners. \nThe HRW invites submissions to present at our monthly session at The CUNY Graduate Center. (Zoom sessions are also possible for those who cannot present in person). We invite paper proposals for works in progress\, works in pre-publication\, and recently published articles to be considered. Please submit your paper proposal here. Proposals should include a title\, an abstract of no more than 300 words\, and a one-page CV. We encourage applicants to submit their proposals before 30 September 2024. \nFor questions and inquiries\, please email Professor Danielle Zach: dzach@gradcenter.cuny.edu
URL:https://ralphbuncheinstitute.org/event/call-for-papers/
LOCATION:Virtual\, bit.ly/3QVelvP\, New York
ORGANIZER;CN="Human Rights Hub":MAILTO:iirtifa@gradcenter.cuny.edu
END:VEVENT
BEGIN:VEVENT
DTSTART;TZID=UTC:20240926T120000
DTEND;TZID=UTC:20240926T130000
DTSTAMP:20260425T211241
CREATED:20240903T160823Z
LAST-MODIFIED:20240903T160823Z
UID:80069-1727352000-1727355600@ralphbuncheinstitute.org
SUMMARY:"A Conversation about Being Human: Political Modernity and Hospitality in Kurdistan-Iraq"
DESCRIPTION:“A Conversation about Being Human: Political Modernity and Hospitality in Kurdistan-Iraq” \nProtesting that culture of censorship and suppression\, the Center for the Study of the Holocaust\, Genocide\, and Crimes Against Humanity (Graduate Center—City University of New York)\, in cooperation with Marion Kaplan\, Professor Emerita of Hebrew and Judaic Studies (NYU) and Raz Segal\, Endowed Professor in the Study of Modern Genocide (Stockton University)\, will host a year-long virtual series\, “In Praise of Books.” We celebrate new scholarship by emerging as well as established scholars\, prizing their creativity and rigor. \n\nPlease join us for the fall series:\nThursday 26 September 2024. 12:00-1:00 PM (EDT) Virtual\n\n\n\n\n\n\n\n\n\n\n\nREGISTER HERE VIA ZOOM
URL:https://ralphbuncheinstitute.org/event/a-conversation-about-being-human-political-modernity-and-hospitality-in-kurdistan-iraq/
LOCATION:NY
ATTACH;FMTTYPE=image/png:https://ralphbuncheinstitute.org/dev/wp-content/uploads/2024/09/8551ad79-0d1f-f31b-6476-0aefe569613b.png
ORGANIZER;CN="Center for the Study of the Holocaust Genocide and Crimes Against Humanity":MAILTO:info@chgcah.org
END:VEVENT
BEGIN:VEVENT
DTSTART;TZID=UTC:20240926T183000
DTEND;TZID=UTC:20240926T203000
DTSTAMP:20260425T211241
CREATED:20240903T161549Z
LAST-MODIFIED:20240903T161549Z
UID:80080-1727375400-1727382600@ralphbuncheinstitute.org
SUMMARY:"From the global South to the human rights stage: A study of global frame resonance using a comparative case of Women\, Life\, Freedom and Bloody November in Iran."
DESCRIPTION:Danial Vahabli is a sociology PhD student at Stony Brook University and the Graduate Fellow of Institute for Advanced Computational Science. His research uses both computational methods and qualitative methods to study the intersection of culture\, globalization\, and resistance. His dissertation project focuses on international media representations of domestic protests with insights from social movement studies\, world society theory\, and media studies. He is also interested in protest art and its role in everyday acts of resistance. \n\n\n 
URL:https://ralphbuncheinstitute.org/event/from-the-global-south-to-the-human-rights-stage-a-study-of-global-frame-resonance-using-a-comparative-case-of-women-life-freedom-and-bloody-november-in-iran/
LOCATION:Graduate Center Room 5203\, 365 Fifth Ave\, New York\, NY\, 10016\, United States
ORGANIZER;CN="Human Rights Hub":MAILTO:iirtifa@gradcenter.cuny.edu
END:VEVENT
END:VCALENDAR